BEGIN:VCALENDAR
VERSION:2.0
PRODID:-//MFVA - Franciscan Missionaries of the Eternal Word - ECPv6.15.20//NONSGML v1.0//EN
CALSCALE:GREGORIAN
METHOD:PUBLISH
X-WR-CALNAME:MFVA - Franciscan Missionaries of the Eternal Word
X-ORIGINAL-URL:https://franciscanmissionaries.com
X-WR-CALDESC:Events for MFVA - Franciscan Missionaries of the Eternal Word
REFRESH-INTERVAL;VALUE=DURATION:PT1H
X-Robots-Tag:noindex
X-PUBLISHED-TTL:PT1H
BEGIN:VTIMEZONE
TZID:America/Chicago
BEGIN:DAYLIGHT
TZOFFSETFROM:-0600
TZOFFSETTO:-0500
TZNAME:CDT
DTSTART:20150308T080000
END:DAYLIGHT
BEGIN:STANDARD
TZOFFSETFROM:-0500
TZOFFSETTO:-0600
TZNAME:CST
DTSTART:20151101T070000
END:STANDARD
BEGIN:DAYLIGHT
TZOFFSETFROM:-0600
TZOFFSETTO:-0500
TZNAME:CDT
DTSTART:20160313T080000
END:DAYLIGHT
BEGIN:STANDARD
TZOFFSETFROM:-0500
TZOFFSETTO:-0600
TZNAME:CST
DTSTART:20161106T070000
END:STANDARD
BEGIN:DAYLIGHT
TZOFFSETFROM:-0600
TZOFFSETTO:-0500
TZNAME:CDT
DTSTART:20170312T080000
END:DAYLIGHT
BEGIN:STANDARD
TZOFFSETFROM:-0500
TZOFFSETTO:-0600
TZNAME:CST
DTSTART:20171105T070000
END:STANDARD
BEGIN:DAYLIGHT
TZOFFSETFROM:-0600
TZOFFSETTO:-0500
TZNAME:CDT
DTSTART:20180311T080000
END:DAYLIGHT
BEGIN:STANDARD
TZOFFSETFROM:-0500
TZOFFSETTO:-0600
TZNAME:CST
DTSTART:20181104T070000
END:STANDARD
END:VTIMEZONE
BEGIN:VEVENT
DTSTART;VALUE=DATE:20170101
DTEND;VALUE=DATE:20170107
DTSTAMP:20260422T070054
CREATED:20160822T150225Z
LAST-MODIFIED:20160822T150225Z
UID:2593-1483228800-1483747199@franciscanmissionaries.com
SUMMARY:MFVA Community Retreat
DESCRIPTION:
URL:https://franciscanmissionaries.com/event/mfva-community-retreat/
LOCATION:AL
END:VEVENT
BEGIN:VEVENT
DTSTART;VALUE=DATE:20170101
DTEND;VALUE=DATE:20170102
DTSTAMP:20260422T070054
CREATED:20160927T151131Z
LAST-MODIFIED:20160927T151131Z
UID:2714-1483228800-1483315199@franciscanmissionaries.com
SUMMARY:The Solemnity of the Blessed Virgin Mary
DESCRIPTION:
URL:https://franciscanmissionaries.com/event/solemnity-blessed-virgin-mary/
LOCATION:AL
END:VEVENT
BEGIN:VEVENT
DTSTART;TZID=America/Chicago:20161225T123000
DTEND;TZID=America/Chicago:20161225T133000
DTSTAMP:20260422T070054
CREATED:20160927T154103Z
LAST-MODIFIED:20160927T154103Z
UID:2733-1482669000-1482672600@franciscanmissionaries.com
SUMMARY:Casa Maria Christmas Mass
DESCRIPTION:
URL:https://franciscanmissionaries.com/event/casa-maria-christmas-mass/
LOCATION:Casa Maria\, 3721 Belmont Rd\, Irondale\, AL\, 35210\, United States
END:VEVENT
BEGIN:VEVENT
DTSTART;VALUE=DATE:20161225
DTEND;VALUE=DATE:20161226
DTSTAMP:20260422T070054
CREATED:20160927T151048Z
LAST-MODIFIED:20160927T151048Z
UID:2713-1482624000-1482710399@franciscanmissionaries.com
SUMMARY:The Solemnity of the Birth of the Lord (Christmas)
DESCRIPTION:
URL:https://franciscanmissionaries.com/event/solemnity-birth-lord-christmas/
LOCATION:AL
END:VEVENT
BEGIN:VEVENT
DTSTART;TZID=America/Chicago:20161224T220000
DTEND;TZID=America/Chicago:20161224T233000
DTSTAMP:20260422T070054
CREATED:20160927T153943Z
LAST-MODIFIED:20160927T153943Z
UID:2732-1482616800-1482622200@franciscanmissionaries.com
SUMMARY:Casa Maria Christmas Vigil Mass
DESCRIPTION:
URL:https://franciscanmissionaries.com/event/casa-maria-christmas-vigil-mass/
LOCATION:Casa Maria\, 3721 Belmont Rd\, Irondale\, AL\, 35210\, United States
END:VEVENT
BEGIN:VEVENT
DTSTART;VALUE=DATE:20161219
DTEND;VALUE=DATE:20161220
DTSTAMP:20260422T070054
CREATED:20160927T151358Z
LAST-MODIFIED:20160927T151358Z
UID:2715-1482105600-1482191999@franciscanmissionaries.com
SUMMARY:The Anniversary of the Consecration of the Shrine of the Most Blessed Sacrament (Hanceville\, AL)
DESCRIPTION:
URL:https://franciscanmissionaries.com/event/anniversary-consecration-shrine-blessed-sacrament-hanceville-al/
LOCATION:Shrine of the Most Blessed Sacrament\, 3222 County Road 546\, Hanceville\, AL\, 35210\, United States
END:VEVENT
BEGIN:VEVENT
DTSTART;TZID=America/Chicago:20161218T110000
DTEND;TZID=America/Chicago:20161218T120000
DTSTAMP:20260422T070054
CREATED:20160927T153830Z
LAST-MODIFIED:20160927T153830Z
UID:2731-1482058800-1482062400@franciscanmissionaries.com
SUMMARY:Casa Maria Mass
DESCRIPTION:
URL:https://franciscanmissionaries.com/event/casa-maria-mass-6/
LOCATION:Casa Maria\, 3721 Belmont Rd\, Irondale\, AL\, 35210\, United States
END:VEVENT
BEGIN:VEVENT
DTSTART;TZID=America/Chicago:20161218T110000
DTEND;TZID=America/Chicago:20161218T120000
DTSTAMP:20260422T070054
CREATED:20160927T153515Z
LAST-MODIFIED:20160927T153648Z
UID:2730-1482058800-1482062400@franciscanmissionaries.com
SUMMARY:Parish Coverage: Our Lady\, Queen of the Universe
DESCRIPTION:
URL:https://franciscanmissionaries.com/event/parish-coverage-lady-queen-universe-2/
LOCATION:Our Lady\, Queen of the Universe\, 2421 Shady Lane Dr.\, Huntsville\, AL\, 35810\, United States
END:VEVENT
BEGIN:VEVENT
DTSTART;TZID=America/Chicago:20161218T090000
DTEND;TZID=America/Chicago:20161218T100000
DTSTAMP:20260422T070054
CREATED:20160927T153254Z
LAST-MODIFIED:20160927T153313Z
UID:2729-1482051600-1482055200@franciscanmissionaries.com
SUMMARY:Parish Coverage: Sacred Heart\, Collegeville
DESCRIPTION:
URL:https://franciscanmissionaries.com/event/parish-coverage-sacred-heart-collegeville-2/
LOCATION:AL
END:VEVENT
BEGIN:VEVENT
DTSTART;TZID=America/Chicago:20161212T090000
DTEND;TZID=America/Chicago:20161212T110000
DTSTAMP:20260422T070054
CREATED:20160927T153216Z
LAST-MODIFIED:20160927T153216Z
UID:2728-1481533200-1481540400@franciscanmissionaries.com
SUMMARY:Casa Maria: Day of Thanks for Local Volunteers\, Fr. Joseph
DESCRIPTION:9:00am Conference / 10:00am Mass
URL:https://franciscanmissionaries.com/event/casa-maria-day-thanks-local-volunteers-fr-joseph/
LOCATION:Casa Maria\, 3721 Belmont Rd\, Irondale\, AL\, 35210\, United States
END:VEVENT
BEGIN:VEVENT
DTSTART;VALUE=DATE:20161212
DTEND;VALUE=DATE:20161213
DTSTAMP:20260422T070054
CREATED:20160927T150925Z
LAST-MODIFIED:20160927T150925Z
UID:2712-1481500800-1481587199@franciscanmissionaries.com
SUMMARY:The Feast of Our Lady of Guadalupe
DESCRIPTION:
URL:https://franciscanmissionaries.com/event/feast-lady-guadalupe/
LOCATION:AL
END:VEVENT
BEGIN:VEVENT
DTSTART;TZID=America/Chicago:20161211T170000
DTEND;TZID=America/Chicago:20161211T180000
DTSTAMP:20260422T070054
CREATED:20160927T153108Z
LAST-MODIFIED:20160927T153108Z
UID:2727-1481475600-1481479200@franciscanmissionaries.com
SUMMARY:Parish Coverage: Resurrection Chapel\, Moulton/Hillsboro
DESCRIPTION:
URL:https://franciscanmissionaries.com/event/parish-coverage-resurrection-chapel-moultonhillsboro-3/
LOCATION:Resurrection Chapel\, 4826 County Road 217\, Hillsboro\, AL\, 35643\, United States
END:VEVENT
BEGIN:VEVENT
DTSTART;VALUE=DATE:20161208
DTEND;VALUE=DATE:20161209
DTSTAMP:20260422T070054
CREATED:20160927T150700Z
LAST-MODIFIED:20160927T150700Z
UID:2710-1481155200-1481241599@franciscanmissionaries.com
SUMMARY:Solemnity of the Immaculate Conception
DESCRIPTION:
URL:https://franciscanmissionaries.com/event/solemnity-immaculate-conception/
LOCATION:AL
END:VEVENT
BEGIN:VEVENT
DTSTART;TZID=America/Chicago:20161205T190000
DTEND;TZID=America/Chicago:20161205T210000
DTSTAMP:20260422T070054
CREATED:20160927T153015Z
LAST-MODIFIED:20160927T153015Z
UID:2726-1480964400-1480971600@franciscanmissionaries.com
SUMMARY:Advent Penance Service (English & Spanish): St. Francis Xavier
DESCRIPTION:
URL:https://franciscanmissionaries.com/event/advent-penance-service-english-spanish-st-francis-xavier/
LOCATION:St. Francis Xavier Catholic Church\, 2 Xavier Circle\, Birmingham\, AL\, 35213\, United States
END:VEVENT
BEGIN:VEVENT
DTSTART;TZID=America/Chicago:20161204T110000
DTEND;TZID=America/Chicago:20161204T120000
DTSTAMP:20260422T070054
CREATED:20160927T152915Z
LAST-MODIFIED:20160927T152915Z
UID:2725-1480849200-1480852800@franciscanmissionaries.com
SUMMARY:Casa Maria Mass
DESCRIPTION:
URL:https://franciscanmissionaries.com/event/casa-maria-mass-5/
LOCATION:Casa Maria\, 3721 Belmont Rd\, Irondale\, AL\, 35210\, United States
END:VEVENT
BEGIN:VEVENT
DTSTART;VALUE=DATE:20161201
DTEND;VALUE=DATE:20161205
DTSTAMP:20260422T070054
CREATED:20160822T150025Z
LAST-MODIFIED:20160822T150025Z
UID:2591-1480550400-1480895999@franciscanmissionaries.com
SUMMARY:Cursillo Retreat\, Sacred Heart Monastery (Cullman\, AL): Fr. Paschal\, Chaplain
DESCRIPTION:
URL:https://franciscanmissionaries.com/event/cursillo-retreat-sacred-heart-monastery-cullman-al-fr-paschal-chaplain/
LOCATION:Sacred Heart Monastery\, 916 Convent Rd NE\, Cullman\, AL\, 35055\, United States
END:VEVENT
BEGIN:VEVENT
DTSTART;VALUE=DATE:20161129
DTEND;VALUE=DATE:20161130
DTSTAMP:20260422T070054
CREATED:20160927T150511Z
LAST-MODIFIED:20160927T150804Z
UID:2709-1480377600-1480463999@franciscanmissionaries.com
SUMMARY:All Saints of the Seraphic Order
DESCRIPTION:
URL:https://franciscanmissionaries.com/event/saints-seraphic-order/
LOCATION:AL
END:VEVENT
BEGIN:VEVENT
DTSTART;TZID=America/Chicago:20161127T110000
DTEND;TZID=America/Chicago:20161127T120000
DTSTAMP:20260422T070054
CREATED:20160927T152812Z
LAST-MODIFIED:20160927T152812Z
UID:2724-1480244400-1480248000@franciscanmissionaries.com
SUMMARY:Casa Maria Mass
DESCRIPTION:
URL:https://franciscanmissionaries.com/event/casa-maria-mass-4/
LOCATION:Casa Maria\, 3721 Belmont Rd\, Irondale\, AL\, 35210\, United States
END:VEVENT
BEGIN:VEVENT
DTSTART;VALUE=DATE:20161127
DTEND;VALUE=DATE:20161128
DTSTAMP:20260422T070054
CREATED:20160927T150303Z
LAST-MODIFIED:20160927T150303Z
UID:2706-1480204800-1480291199@franciscanmissionaries.com
SUMMARY:First Sunday of Advent
DESCRIPTION:
URL:https://franciscanmissionaries.com/event/first-sunday-advent/
LOCATION:AL
END:VEVENT
BEGIN:VEVENT
DTSTART;VALUE=DATE:20161124
DTEND;VALUE=DATE:20161125
DTSTAMP:20260422T070054
CREATED:20160927T150224Z
LAST-MODIFIED:20160927T150224Z
UID:2705-1479945600-1480031999@franciscanmissionaries.com
SUMMARY:Thanksgiving Day
DESCRIPTION:
URL:https://franciscanmissionaries.com/event/thanksgiving-day/
LOCATION:AL
END:VEVENT
BEGIN:VEVENT
DTSTART;VALUE=DATE:20161121
DTEND;VALUE=DATE:20161122
DTSTAMP:20260422T070054
CREATED:20160927T150327Z
LAST-MODIFIED:20160927T150327Z
UID:2707-1479686400-1479772799@franciscanmissionaries.com
SUMMARY:Presentation of the Virgin Mary
DESCRIPTION:
URL:https://franciscanmissionaries.com/event/presentation-virgin-mary/
LOCATION:AL
END:VEVENT
BEGIN:VEVENT
DTSTART;TZID=America/Chicago:20161120T110000
DTEND;TZID=America/Chicago:20161120T120000
DTSTAMP:20260422T070054
CREATED:20160927T152651Z
LAST-MODIFIED:20160927T152651Z
UID:2723-1479639600-1479643200@franciscanmissionaries.com
SUMMARY:Casa Maria Mass
DESCRIPTION:
URL:https://franciscanmissionaries.com/event/casa-maria-mass-3/
LOCATION:Casa Maria\, 3721 Belmont Rd\, Irondale\, AL\, 35210\, United States
END:VEVENT
BEGIN:VEVENT
DTSTART;VALUE=DATE:20161119
DTEND;VALUE=DATE:20161120
DTSTAMP:20260422T070054
CREATED:20160822T145456Z
LAST-MODIFIED:20160822T145456Z
UID:2590-1479513600-1479599999@franciscanmissionaries.com
SUMMARY:Family Vocations Day\, Auburn\, KY
DESCRIPTION:
URL:https://franciscanmissionaries.com/event/family-vocations-day-auburn-ky/
LOCATION:AL
END:VEVENT
BEGIN:VEVENT
DTSTART;TZID=America/Chicago:20161114T190000
DTEND;TZID=America/Chicago:20161114T200000
DTSTAMP:20260422T070054
CREATED:20160822T145253Z
LAST-MODIFIED:20160927T152455Z
UID:2588-1479150000-1479153600@franciscanmissionaries.com
SUMMARY:Theology on Tap Birmingham: Fr. John Paul\, Presenter
DESCRIPTION:
URL:https://franciscanmissionaries.com/event/theology-tap-birmingham-fr-john-paul-presenter/
LOCATION:Buck Mulligans\, 2011 Highland Ave. S. \, Birmingham\, AL\, United States
END:VEVENT
BEGIN:VEVENT
DTSTART;TZID=America/Chicago:20161109T080000
DTEND;TZID=America/Chicago:20161111T170000
DTSTAMP:20260422T070054
CREATED:20160727T033033Z
LAST-MODIFIED:20160727T033033Z
UID:2321-1478678400-1478883600@franciscanmissionaries.com
SUMMARY:EWTN Catholic Radio Conference
DESCRIPTION:
URL:https://franciscanmissionaries.com/event/ewtn-catholic-radio-conference/
LOCATION:AL
END:VEVENT
BEGIN:VEVENT
DTSTART;VALUE=DATE:20161105
DTEND;VALUE=DATE:20161107
DTSTAMP:20260422T070054
CREATED:20160927T152114Z
LAST-MODIFIED:20160927T152237Z
UID:2721-1478304000-1478476799@franciscanmissionaries.com
SUMMARY:LifeTeen Retreat\, Diocese of Birmingham: Fr. John Paul\, Chaplain
DESCRIPTION:Camp Winnataska\, Pell City
URL:https://franciscanmissionaries.com/event/life-tean-retreat-diocese-birmingham-fr-john-paul-chaplain/
LOCATION:AL
END:VEVENT
BEGIN:VEVENT
DTSTART;VALUE=DATE:20161105
DTEND;VALUE=DATE:20161106
DTSTAMP:20260422T070054
CREATED:20160927T150420Z
LAST-MODIFIED:20160927T150420Z
UID:2708-1478304000-1478390399@franciscanmissionaries.com
SUMMARY:Commemoration of All the Deceased of the Seraphic Order
DESCRIPTION:
URL:https://franciscanmissionaries.com/event/commemoration-deceased-seraphic-order/
LOCATION:AL
END:VEVENT
BEGIN:VEVENT
DTSTART;VALUE=DATE:20161102
DTEND;VALUE=DATE:20161103
DTSTAMP:20260422T070054
CREATED:20160927T150045Z
LAST-MODIFIED:20160927T150045Z
UID:2704-1478044800-1478131199@franciscanmissionaries.com
SUMMARY:All Soul's Day
DESCRIPTION:
URL:https://franciscanmissionaries.com/event/all-souls-day/
LOCATION:AL
END:VEVENT
BEGIN:VEVENT
DTSTART;VALUE=DATE:20161101
DTEND;VALUE=DATE:20161102
DTSTAMP:20260422T070054
CREATED:20160927T145757Z
LAST-MODIFIED:20160927T145757Z
UID:2702-1477958400-1478044799@franciscanmissionaries.com
SUMMARY:All Saint's Day (Holy Day of Obligation)
DESCRIPTION:
URL:https://franciscanmissionaries.com/event/saints-day-holy-day-obligation/
LOCATION:AL
END:VEVENT
BEGIN:VEVENT
DTSTART;TZID=America/Chicago:20161030T170000
DTEND;TZID=America/Chicago:20161030T180000
DTSTAMP:20260422T070054
CREATED:20160927T151959Z
LAST-MODIFIED:20160927T151959Z
UID:2720-1477846800-1477850400@franciscanmissionaries.com
SUMMARY:Parish Coverage: Resurrection Chapel\, Moulton/Hillsboro
DESCRIPTION:
URL:https://franciscanmissionaries.com/event/parish-coverage-resurrection-chapel-moultonhillsboro-2/
LOCATION:AL
END:VEVENT
END:VCALENDAR